Workbook

Sheet GESAMT
A1: Verwendungsnachweis Finanzplan LOEWE-Exploration
A3: ÜBERSICHT GESAMT
A6: PROJEKTTITEL
A7: WISS. KOORDINATION
A8: FEDERFÜHRENDE Einrichtung:
A9: Förderzeitraum:
A11: SOLL / IST Vergleich verwendete Mittel | B11: SOLL Haushaltsjahr 20… | E11: IST Haushaltsjahr 20 …
A13: PERSONALKOSTEN (AG-Brutto ohne Arbeitsplatzkosten): | B13: Personen / Jahr | C13: Personenmonate /Jahr | D13: Kosten / Jahr in € | E13: Personen / Jahr | F13: Personenmonate /Jahr | G13: Kosten / Jahr in €
A14: Wissenschaftliches Personal:
A15: W3 | B15: =SUM('Federführ. nach Haushaltsjahren'!B15+Partner_1!B15+Partner_2!B15) -> 0 | C15: =SUM('Federführ. nach Haushaltsjahren'!C15+Partner_1!C15+Partner_2!C15) -> 0 | D15: =SUM('Federführ. nach Haushaltsjahren'!D15+Partner_1!D15+Partner_2!D15) -> 0 | E15: =SUM('Federführ. nach Haushaltsjahren'!E15+Partner_1!E15+Partner_2!E15) -> 0 | F15: =SUM('Federführ. nach Haushaltsjahren'!F15+Partner_1!F15+Partner_2!F15) -> 0 | G15: =SUM('Federführ. nach Haushaltsjahren'!G15+Partner_1!G15+Partner_2!G15) -> 0
A16: W2 | B16: =SUM('Federführ. nach Haushaltsjahren'!B16+Partner_1!B16+Partner_2!B16) -> 0 | C16: =SUM('Federführ. nach Haushaltsjahren'!C16+Partner_1!C16+Partner_2!C16) -> 0 | D16: =SUM('Federführ. nach Haushaltsjahren'!D16+Partner_1!D16+Partner_2!D16) -> 0 | E16: =SUM('Federführ. nach Haushaltsjahren'!E16+Partner_1!E16+Partner_2!E16) -> 0 | F16: =SUM('Federführ. nach Haushaltsjahren'!F16+Partner_1!F16+Partner_2!F16) -> 0 | G16: =SUM('Federführ. nach Haushaltsjahren'!G16+Partner_1!G16+Partner_2!G16) -> 0
A17: TV-H 15 | B17: =SUM('Federführ. nach Haushaltsjahren'!B17+Partner_1!B17+Partner_2!B17) -> 0 | C17: =SUM('Federführ. nach Haushaltsjahren'!C17+Partner_1!C17+Partner_2!C17) -> 0 | D17: =SUM('Federführ. nach Haushaltsjahren'!D17+Partner_1!D17+Partner_2!D17) -> 0 | E17: =SUM('Federführ. nach Haushaltsjahren'!E17+Partner_1!E17+Partner_2!E17) -> 0 | F17: =SUM('Federführ. nach Haushaltsjahren'!F17+Partner_1!F17+Partner_2!F17) -> 0 | G17: =SUM('Federführ. nach Haushaltsjahren'!G17+Partner_1!G17+Partner_2!G17) -> 0
A18: TV-H 14 | B18: =SUM('Federführ. nach Haushaltsjahren'!B18+Partner_1!B18+Partner_2!B18) -> 0 | C18: =SUM('Federführ. nach Haushaltsjahren'!C18+Partner_1!C18+Partner_2!C18) -> 0 | D18: =SUM('Federführ. nach Haushaltsjahren'!D18+Partner_1!D18+Partner_2!D18) -> 0 | E18: =SUM('Federführ. nach Haushaltsjahren'!E18+Partner_1!E18+Partner_2!E18) -> 0 | F18: =SUM('Federführ. nach Haushaltsjahren'!F18+Partner_1!F18+Partner_2!F18) -> 0 | G18: =SUM('Federführ. nach Haushaltsjahren'!G18+Partner_1!G18+Partner_2!G18) -> 0
A19: TV-H 13 | B19: =SUM('Federführ. nach Haushaltsjahren'!B19+Partner_1!B19+Partner_2!B19) -> 0 | C19: =SUM('Federführ. nach Haushaltsjahren'!C19+Partner_1!C19+Partner_2!C19) -> 0 | D19: =SUM('Federführ. nach Haushaltsjahren'!D19+Partner_1!D19+Partner_2!D19) -> 0 | E19: =SUM('Federführ. nach Haushaltsjahren'!E19+Partner_1!E19+Partner_2!E19) -> 0 | F19: =SUM('Federführ. nach Haushaltsjahren'!F19+Partner_1!F19+Partner_2!F19) -> 0 | G19: =SUM('Federführ. nach Haushaltsjahren'!G19+Partner_1!G19+Partner_2!G19) -> 0
A20: TV-H 12 | B20: =SUM('Federführ. nach Haushaltsjahren'!B20+Partner_1!B20+Partner_2!B20) -> 0 | C20: =SUM('Federführ. nach Haushaltsjahren'!C20+Partner_1!C20+Partner_2!C20) -> 0 | D20: =SUM('Federführ. nach Haushaltsjahren'!D20+Partner_1!D20+Partner_2!D20) -> 0 | E20: =SUM('Federführ. nach Haushaltsjahren'!E20+Partner_1!E20+Partner_2!E20) -> 0 | F20: =SUM('Federführ. nach Haushaltsjahren'!F20+Partner_1!F20+Partner_2!F20) -> 0 | G20: =SUM('Federführ. nach Haushaltsjahren'!G20+Partner_1!G20+Partner_2!G20) -> 0
A21: … | B21: =SUM('Federführ. nach Haushaltsjahren'!B21+Partner_1!B21+Partner_2!B21) -> 0 | C21: =SUM('Federführ. nach Haushaltsjahren'!C21+Partner_1!C21+Partner_2!C21) -> 0 | D21: =SUM('Federführ. nach Haushaltsjahren'!D21+Partner_1!D21+Partner_2!D21) -> 0 | E21: =SUM('Federführ. nach Haushaltsjahren'!E21+Partner_1!E21+Partner_2!E21) -> 0 | F21: =SUM('Federführ. nach Haushaltsjahren'!F21+Partner_1!F21+Partner_2!F21) -> 0 | G21: =SUM('Federführ. nach Haushaltsjahren'!G21+Partner_1!G21+Partner_2!G21) -> 0
B22: =SUM('Federführ. nach Haushaltsjahren'!B22+Partner_1!B22+Partner_2!B22) -> 0 | C22: =SUM('Federführ. nach Haushaltsjahren'!C22+Partner_1!C22+Partner_2!C22) -> 0 | D22: =SUM('Federführ. nach Haushaltsjahren'!D22+Partner_1!D22+Partner_2!D22) -> 0 | E22: =SUM('Federführ. nach Haushaltsjahren'!E22+Partner_1!E22+Partner_2!E22) -> 0 | F22: =SUM('Federführ. nach Haushaltsjahren'!F22+Partner_1!F22+Partner_2!F22) -> 0 | G22: =SUM('Federführ. nach Haushaltsjahren'!G22+Partner_1!G22+Partner_2!G22) -> 0
A23: Wissenschaftl./Student. Hilfskräfte | B23: =SUM('Federführ. nach Haushaltsjahren'!B23+Partner_1!B23+Partner_2!B23) -> 0 | C23: =SUM('Federführ. nach Haushaltsjahren'!C23+Partner_1!C23+Partner_2!C23) -> 0 | D23: =SUM('Federführ. nach Haushaltsjahren'!D23+Partner_1!D23+Partner_2!D23) -> 0 | E23: =SUM('Federführ. nach Haushaltsjahren'!E23+Partner_1!E23+Partner_2!E23) -> 0 | F23: =SUM('Federführ. nach Haushaltsjahren'!F23+Partner_1!F23+Partner_2!F23) -> 0 | G23: =SUM('Federführ. nach Haushaltsjahren'!G23+Partner_1!G23+Partner_2!G23) -> 0
A24: Zw.-summe Wissenschaftl. Personal: | B24: =SUM(B15:B23) -> 0 | C24: =SUM(C15:C23) -> 0 | D24: =SUM(D15:D23) -> 0 | E24: =SUM(E15:E23) -> 0 | F24: =SUM(F15:F23) -> 0 | G24: =SUM(G15:G23) -> 0
A25: Nichtwissenschaftliches Personal (inkl. Administration):
A26: TV-H 15 | B26: =SUM('Federführ. nach Haushaltsjahren'!B26+Partner_1!B26+Partner_2!B26) -> 0 | C26: =SUM('Federführ. nach Haushaltsjahren'!C26+Partner_1!C26+Partner_2!C26) -> 0 | D26: =SUM('Federführ. nach Haushaltsjahren'!D26+Partner_1!D26+Partner_2!D26) -> 0 | E26: =SUM('Federführ. nach Haushaltsjahren'!E26+Partner_1!E26+Partner_2!E26) -> 0 | F26: =SUM('Federführ. nach Haushaltsjahren'!F26+Partner_1!F26+Partner_2!F26) -> 0 | G26: =SUM('Federführ. nach Haushaltsjahren'!G26+Partner_1!G26+Partner_2!G26) -> 0
A27: TV-H 14 | B27: =SUM('Federführ. nach Haushaltsjahren'!B27+Partner_1!B27+Partner_2!B27) -> 0 | C27: =SUM('Federführ. nach Haushaltsjahren'!C27+Partner_1!C27+Partner_2!C27) -> 0 | D27: =SUM('Federführ. nach Haushaltsjahren'!D27+Partner_1!D27+Partner_2!D27) -> 0 | E27: =SUM('Federführ. nach Haushaltsjahren'!E27+Partner_1!E27+Partner_2!E27) -> 0 | F27: =SUM('Federführ. nach Haushaltsjahren'!F27+Partner_1!F27+Partner_2!F27) -> 0 | G27: =SUM('Federführ. nach Haushaltsjahren'!G27+Partner_1!G27+Partner_2!G27) -> 0
A28: TV-H 13 | B28: =SUM('Federführ. nach Haushaltsjahren'!B28+Partner_1!B28+Partner_2!B28) -> 0 | C28: =SUM('Federführ. nach Haushaltsjahren'!C28+Partner_1!C28+Partner_2!C28) -> 0 | D28: =SUM('Federführ. nach Haushaltsjahren'!D28+Partner_1!D28+Partner_2!D28) -> 0 | E28: =SUM('Federführ. nach Haushaltsjahren'!E28+Partner_1!E28+Partner_2!E28) -> 0 | F28: =SUM('Federführ. nach Haushaltsjahren'!F28+Partner_1!F28+Partner_2!F28) -> 0 | G28: =SUM('Federführ. nach Haushaltsjahren'!G28+Partner_1!G28+Partner_2!G28) -> 0
A29: TV-H 12 | B29: =SUM('Federführ. nach Haushaltsjahren'!B29+Partner_1!B29+Partner_2!B29) -> 0 | C29: =SUM('Federführ. nach Haushaltsjahren'!C29+Partner_1!C29+Partner_2!C29) -> 0 | D29: =SUM('Federführ. nach Haushaltsjahren'!D29+Partner_1!D29+Partner_2!D29) -> 0 | E29: =SUM('Federführ. nach Haushaltsjahren'!E29+Partner_1!E29+Partner_2!E29) -> 0 | F29: =SUM('Federführ. nach Haushaltsjahren'!F29+Partner_1!F29+Partner_2!F29) -> 0 | G29: =SUM('Federführ. nach Haushaltsjahren'!G29+Partner_1!G29+Partner_2!G29) -> 0
A30: TV-H 11 | B30: =SUM('Federführ. nach Haushaltsjahren'!B30+Partner_1!B30+Partner_2!B30) -> 0 | C30: =SUM('Federführ. nach Haushaltsjahren'!C30+Partner_1!C30+Partner_2!C30) -> 0 | D30: =SUM('Federführ. nach Haushaltsjahren'!D30+Partner_1!D30+Partner_2!D30) -> 0 | E30: =SUM('Federführ. nach Haushaltsjahren'!E30+Partner_1!E30+Partner_2!E30) -> 0 | F30: =SUM('Federführ. nach Haushaltsjahren'!F30+Partner_1!F30+Partner_2!F30) -> 0 | G30: =SUM('Federführ. nach Haushaltsjahren'!G30+Partner_1!G30+Partner_2!G30) -> 0
A31: TV-H 10 | B31: =SUM('Federführ. nach Haushaltsjahren'!B31+Partner_1!B31+Partner_2!B31) -> 0 | C31: =SUM('Federführ. nach Haushaltsjahren'!C31+Partner_1!C31+Partner_2!C31) -> 0 | D31: =SUM('Federführ. nach Haushaltsjahren'!D31+Partner_1!D31+Partner_2!D31) -> 0 | E31: =SUM('Federführ. nach Haushaltsjahren'!E31+Partner_1!E31+Partner_2!E31) -> 0 | F31: =SUM('Federführ. nach Haushaltsjahren'!F31+Partner_1!F31+Partner_2!F31) -> 0 | G31: =SUM('Federführ. nach Haushaltsjahren'!G31+Partner_1!G31+Partner_2!G31) -> 0
A32: TV-H 9 | B32: =SUM('Federführ. nach Haushaltsjahren'!B32+Partner_1!B32+Partner_2!B32) -> 0 | C32: =SUM('Federführ. nach Haushaltsjahren'!C32+Partner_1!C32+Partner_2!C32) -> 0 | D32: =SUM('Federführ. nach Haushaltsjahren'!D32+Partner_1!D32+Partner_2!D32) -> 0 | E32: =SUM('Federführ. nach Haushaltsjahren'!E32+Partner_1!E32+Partner_2!E32) -> 0 | F32: =SUM('Federführ. nach Haushaltsjahren'!F32+Partner_1!F32+Partner_2!F32) -> 0 | G32: =SUM('Federführ. nach Haushaltsjahren'!G32+Partner_1!G32+Partner_2!G32) -> 0
A33: TV-H 8 | B33: =SUM('Federführ. nach Haushaltsjahren'!B33+Partner_1!B33+Partner_2!B33) -> 0 | C33: =SUM('Federführ. nach Haushaltsjahren'!C33+Partner_1!C33+Partner_2!C33) -> 0 | D33: =SUM('Federführ. nach Haushaltsjahren'!D33+Partner_1!D33+Partner_2!D33) -> 0 | E33: =SUM('Federführ. nach Haushaltsjahren'!E33+Partner_1!E33+Partner_2!E33) -> 0 | F33: =SUM('Federführ. nach Haushaltsjahren'!F33+Partner_1!F33+Partner_2!F33) -> 0 | G33: =SUM('Federführ. nach Haushaltsjahren'!G33+Partner_1!G33+Partner_2!G33) -> 0
A34: TV-H 7 | B34: =SUM('Federführ. nach Haushaltsjahren'!B34+Partner_1!B34+Partner_2!B34) -> 0 | C34: =SUM('Federführ. nach Haushaltsjahren'!C34+Partner_1!C34+Partner_2!C34) -> 0 | D34: =SUM('Federführ. nach Haushaltsjahren'!D34+Partner_1!D34+Partner_2!D34) -> 0 | E34: =SUM('Federführ. nach Haushaltsjahren'!E34+Partner_1!E34+Partner_2!E34) -> 0 | F34: =SUM('Federführ. nach Haushaltsjahren'!F34+Partner_1!F34+Partner_2!F34) -> 0 | G34: =SUM('Federführ. nach Haushaltsjahren'!G34+Partner_1!G34+Partner_2!G34) -> 0
B35: =SUM('Federführ. nach Haushaltsjahren'!B35+Partner_1!B35+Partner_2!B35) -> 0 | C35: =SUM('Federführ. nach Haushaltsjahren'!C35+Partner_1!C35+Partner_2!C35) -> 0 | D35: =SUM('Federführ. nach Haushaltsjahren'!D35+Partner_1!D35+Partner_2!D35) -> 0 | E35: =SUM('Federführ. nach Haushaltsjahren'!E35+Partner_1!E35+Partner_2!E35) -> 0 | F35: =SUM('Federführ. nach Haushaltsjahren'!F35+Partner_1!F35+Partner_2!F35) -> 0 | G35: =SUM('Federführ. nach Haushaltsjahren'!G35+Partner_1!G35+Partner_2!G35) -> 0
A36: … | B36: =SUM('Federführ. nach Haushaltsjahren'!B36+Partner_1!B36+Partner_2!B36) -> 0 | C36: =SUM('Federführ. nach Haushaltsjahren'!C36+Partner_1!C36+Partner_2!C36) -> 0 | D36: =SUM('Federführ. nach Haushaltsjahren'!D36+Partner_1!D36+Partner_2!D36) -> 0 | E36: =SUM('Federführ. nach Haushaltsjahren'!E36+Partner_1!E36+Partner_2!E36) -> 0 | F36: =SUM('Federführ. nach Haushaltsjahren'!F36+Partner_1!F36+Partner_2!F36) -> 0 | G36: =SUM('Federführ. nach Haushaltsjahren'!G36+Partner_1!G36+Partner_2!G36) -> 0
A37: Zw.-summe Nicht-Wissenschaftl. Personal: | B37: =SUM(B26:B36) -> 0 | C37: =SUM(C26:C36) -> 0 | D37: =SUM(D26:D36) -> 0 | E37: =SUM(E26:E36) -> 0 | F37: =SUM(F26:F36) -> 0 | G37: =SUM(G26:G36) -> 0
A38: SUMME STELLEN/PERSONALKOSTEN: | B38: =SUM(B24,B37) -> 0 | C38: =SUM(C24,C37) -> 0 | D38: =SUM(D24,D37) -> 0 | E38: =SUM(E24,E37) -> 0 | F38: =SUM(F24,F37) -> 0 | G38: =SUM(G24,G37) -> 0
A40: SACHKOSTEN < Euro 5.000: | B40: Kosten in € | E40: Kosten in €
A41: Publikationen | B41: =SUM('Federführ. nach Haushaltsjahren'!B41+Partner_1!B41+Partner_2!B41) -> 0 | E41: =SUM('Federführ. nach Haushaltsjahren'!E41+Partner_1!E41+Partner_2!E41) -> 0
A42: Reisekosten | B42: =SUM('Federführ. nach Haushaltsjahren'!B42+Partner_1!B42+Partner_2!B42) -> 0 | E42: =SUM('Federführ. nach Haushaltsjahren'!E42+Partner_1!E42+Partner_2!E42) -> 0
A43: Verbrauchsmittel / Labormaterial | B43: =SUM('Federführ. nach Haushaltsjahren'!B43+Partner_1!B43+Partner_2!B43) -> 0 | E43: =SUM('Federführ. nach Haushaltsjahren'!E43+Partner_1!E43+Partner_2!E43) -> 0
A44: z.B. …. | B44: =SUM('Federführ. nach Haushaltsjahren'!B44+Partner_1!B44+Partner_2!B44) -> 0 | E44: =SUM('Federführ. nach Haushaltsjahren'!E44+Partner_1!E44+Partner_2!E44) -> 0
A45: z.B. …. | B45: =SUM('Federführ. nach Haushaltsjahren'!B45+Partner_1!B45+Partner_2!B45) -> 0 | E45: =SUM('Federführ. nach Haushaltsjahren'!E45+Partner_1!E45+Partner_2!E45) -> 0
A46: z.B. …. | B46: =SUM('Federführ. nach Haushaltsjahren'!B46+Partner_1!B46+Partner_2!B46) -> 0 | E46: =SUM('Federführ. nach Haushaltsjahren'!E46+Partner_1!E46+Partner_2!E46) -> 0
A47: SUMME SACHKOSTEN: | B47: =SUM(B41:D46) -> 0 | E47: =SUM(E41:G46) -> 0
A49: Overhead / Gemeinkosten (bis 20% Pauschal) | B49: Kosten in € | E49: Kosten in €
B50: =SUM('Federführ. nach Haushaltsjahren'!B50+Partner_1!B50+Partner_2!B50) -> 0 | E50: =SUM('Federführ. nach Haushaltsjahren'!E50+Partner_1!E50+Partner_2!E50) -> 0
A52: SUMME total: | B52: =D38+B47+B50 -> 0 | E52: =G38+E47+E50 -> 0
A54: Zuwendungen aus LOEWE-Mittel: | B54: Kosten in € | E54: Kosten in €
A55: Zuwendungen Betrieb | B55: =SUM('Federführ. nach Haushaltsjahren'!B55+Partner_1!B55+Partner_2!B55) -> 0 | E55: =SUM('Federführ. nach Haushaltsjahren'!E55+Partner_1!E55+Partner_2!E55) -> 0
A56: Zuwendungen Overhead | B56: =SUM('Federführ. nach Haushaltsjahren'!B56+Partner_1!B56+Partner_2!B56) -> 0 | E56: =SUM('Federführ. nach Haushaltsjahren'!E56+Partner_1!E56+Partner_2!E56) -> 0
A57: SUMME ZUWENDUNGEN LOEWE | B57: =SUM(B55:D56) -> 0 | E57: =SUM(E55:G56) -> 0
A59: Kassenstand Jahresanfang:
A60: Kassenstand Jahresende: | E60: =E57-E52 -> 0
A63: Eigenanteil der antragstellenden Einrichtung: | B63: Kosten in € | E63: Kosten in €
A64: Personalkosten | B64: =SUM(B65:D66) -> 0 | E64: =SUM(E65:G66) -> 0
A65: z.B. davon | B65: =SUM('Federführ. nach Haushaltsjahren'!B65+Partner_1!B65+Partner_2!B65) -> 0 | E65: =SUM('Federführ. nach Haushaltsjahren'!E65+Partner_1!E65+Partner_2!E65) -> 0
A66: z.B. davon | B66: =SUM('Federführ. nach Haushaltsjahren'!B66+Partner_1!B66+Partner_2!B66) -> 0 | E66: =SUM('Federführ. nach Haushaltsjahren'!E66+Partner_1!E66+Partner_2!E66) -> 0
A67: Sachkosten | B67: =SUM(B68:D69) -> 0 | E67: =SUM(E68:G69) -> 0
A68: z.B. davon | B68: =SUM('Federführ. nach Haushaltsjahren'!B68+Partner_1!B68+Partner_2!B68) -> 0 | E68: =SUM('Federführ. nach Haushaltsjahren'!E68+Partner_1!E68+Partner_2!E68) -> 0
A69: z.B. davon | B69: =SUM('Federführ. nach Haushaltsjahren'!B69+Partner_1!B69+Partner_2!B69) -> 0 | E69: =SUM('Federführ. nach Haushaltsjahren'!E69+Partner_1!E69+Partner_2!E69) -> 0
A70: SUMME EIGENANTEIL: | B70: =SUM(B64+B67) -> 0 | E70: =SUM(E64+E67) -> 0
A72: Eigenanteil Gesamt in % | B72: =SUM(B70/B57) -> #DIV/0! | E72: =SUM(E70/E57) -> #DIV/0!
A74: FINANZBEDARF total: | B74: =SUM(B57+B70) -> 0 | E74: =SUM(E52+E70) -> 0
A76: Erläuterung zu den Abweichungen:

Sheet Federführ. nach Haushaltsjahren
A1: Verwendungsnachweis Finanzplan LOEWE-Exploration
A3: Federführung:
A6: PROJEKTTITEL
A7: WISS. KOORDINATION
A8: FEDERFÜHRENDE Einrichtung:
A9: Förderzeitraum:
A11: SOLL / IST Vergleich verwendete Mittel | B11: SOLL Haushaltsjahr 20… | E11: IST Haushaltsjahr 20 …
A13: PERSONALKOSTEN (AG-Brutto ohne Arbeitsplatzkosten): | B13: Personen / Jahr | C13: Personenmonate /Jahr | D13: Kosten / Jahr in € | E13: Personen / Jahr | F13: Personenmonate /Jahr | G13: Kosten / Jahr in €
A14: Wissenschaftliches Personal:
A15: W3 | B15: 0 | C15: 0 | D15: 0 | E15: 0 | F15: 0 | G15: 0
A16: W2 | B16: 0 | C16: 0 | D16: 0 | E16: 0 | F16: 0 | G16: 0
A17: TV-H 15 | B17: 0 | C17: 0 | D17: 0 | E17: 0 | F17: 0 | G17: 0
A18: TV-H 14 | B18: 0 | C18: 0 | D18: 0 | E18: 0 | F18: 0 | G18: 0
A19: TV-H 13 | B19: 0 | C19: 0 | D19: 0 | E19: 0 | F19: 0 | G19: 0
A20: TV-H 12 | B20: 0 | C20: 0 | D20: 0 | E20: 0 | F20: 0 | G20: 0
A21: … | B21: 0 | C21: 0 | D21: 0 | E21: 0 | F21: 0 | G21: 0
B22: 0 | C22: 0 | D22: 0 | E22: 0 | F22: 0 | G22: 0
A23: Wissenschaftl./Student. Hilfskräfte | B23: 0 | C23: 0 | D23: 0 | E23: 0 | F23: 0 | G23: 0
A24: Zw.-summe Wissenschaftl. Personal: | B24: =SUM(B15:B23) -> 0 | C24: =SUM(C15:C23) -> 0 | D24: =SUM(D15:D23) -> 0 | E24: =SUM(E15:E23) -> 0 | F24: =SUM(F15:F23) -> 0 | G24: =SUM(G15:G23) -> 0
A25: Nichtwissenschaftliches Personal (inkl. Administration):
A26: TV-H 15 | B26: 0 | C26: 0 | D26: 0 | E26: 0 | F26: 0 | G26: 0
A27: TV-H 14 | B27: 0 | C27: 0 | D27: 0 | E27: 0 | F27: 0 | G27: 0
A28: TV-H 13 | B28: 0 | C28: 0 | D28: 0 | E28: 0 | F28: 0 | G28: 0
A29: TV-H 12 | B29: 0 | C29: 0 | D29: 0 | E29: 0 | F29: 0 | G29: 0
A30: TV-H 11 | B30: 0 | C30: 0 | D30: 0 | E30: 0 | F30: 0 | G30: 0
A31: TV-H 10 | B31: 0 | C31: 0 | D31: 0 | E31: 0 | F31: 0 | G31: 0
A32: TV-H 9 | B32: 0 | C32: 0 | D32: 0 | E32: 0 | F32: 0 | G32: 0
A33: TV-H 8 | B33: 0 | C33: 0 | D33: 0 | E33: 0 | F33: 0 | G33: 0
A34: TV-H 7 | B34: 0 | C34: 0 | D34: 0 | E34: 0 | F34: 0 | G34: 0
B35: 0 | C35: 0 | D35: 0 | E35: 0 | F35: 0 | G35: 0
A36: … | B36: 0 | C36: 0 | D36: 0 | E36: 0 | F36: 0 | G36: 0
A37: Zw.-summe Nicht-Wissenschaftl. Personal: | B37: =SUM(B26:B36) -> 0 | C37: =SUM(C26:C36) -> 0 | D37: =SUM(D26:D36) -> 0 | E37: =SUM(E26:E36) -> 0 | F37: =SUM(F26:F36) -> 0 | G37: =SUM(G26:G36) -> 0
A38: SUMME STELLEN/PERSONALKOSTEN: | B38: =SUM(B24,B37) -> 0 | C38: =SUM(C24,C37) -> 0 | D38: =SUM(D24,D37) -> 0 | E38: =SUM(E24,E37) -> 0 | F38: =SUM(F24,F37) -> 0 | G38: =SUM(G24,G37) -> 0
A40: SACHKOSTEN < Euro 5.000: | B40: Kosten in € | E40: Kosten in €
A41: Publikationen | B41: 0 | E41: 0
A42: Reisekosten | B42: 0 | E42: 0
A43: Verbrauchsmittel / Labormaterial | B43: 0 | E43: 0
A44: z.B. …. | B44: 0 | E44: 0
A45: z.B. …. | B45: 0 | E45: 0
A46: z.B. …. | B46: 0 | E46: 0
A47: SUMME SACHKOSTEN: | B47: =SUM(B41:D46) -> 0 | E47: =SUM(E41:G46) -> 0
A49: Overhead / Gemeinkosten | B49: Kosten in € | E49: Kosten in €
B50: 0 | E50: 0
A52: SUMME total: | B52: =D38+B47+B50 -> 0 | E52: =G38+E47+E50 -> 0
A54: Zuwendungen aus LOEWE-Mittel: | B54: Kosten in € | E54: Kosten in €
A55: Zuwendungen Betrieb | B55: 0 | E55: 0
A56: Zuwendungen Overhead | B56: 0 | E56: 0
A57: SUMME ZUWENDUNGEN LOEWE | B57: =SUM(B55:D56) -> 0 | E57: =SUM(E55:G56) -> 0
A59: Kassenstand Jahresanfang:
A60: Kassenstand Jahresende: | E60: =E57-E52 -> 0
A63: Eigenanteil der antragstellenden Einrichtung: | B63: Kosten in € | E63: Kosten in €
A64: Personalkosten | B64: =SUM(B65:D66) -> 0 | E64: =SUM(E65:G66) -> 0
A65: z.B. davon | B65: 0 | E65: 0
A66: z.B. davon | B66: 0 | E66: 0
A67: Sachkosten | B67: =SUM(B68:D69) -> 0 | E67: =SUM(E68:G69) -> 0
A68: z.B. davon | B68: 0 | E68: 0
A69: z.B. davon | B69: 0 | E69: 0
A70: SUMME EIGENANTEIL: | B70: =SUM(B64+B67) -> 0 | E70: =SUM(E64+E67) -> 0
A72: Eigenanteil Gesamt in % | B72: =SUM(B70:G70)/SUM(B74:G74) -> #DIV/0!
A74: FINANZBEDARF total: | B74: =SUM(B57+B70) -> 0 | E74: =SUM(E52+E70) -> 0
A76: Erläuterung zu den Abweichungen:

Sheet Partner_1
A1: Verwendungsnachweis Finanzplan LOEWE-Exploration
A3: Partner:
A6: PROJEKTTITEL
A7: WISS. KOORDINATION
A8: FEDERFÜHRENDE Einrichtung:
A9: Förderzeitraum:
A11: SOLL / IST Vergleich verwendete Mittel | B11: SOLL Haushaltsjahr 20… | E11: IST Haushaltsjahr 20 …
A13: PERSONALKOSTEN (AG-Brutto ohne Arbeitsplatzkosten): | B13: Personen / Jahr | C13: Personenmonate /Jahr | D13: Kosten / Jahr in € | E13: Personen / Jahr | F13: Personenmonate /Jahr | G13: Kosten / Jahr in €
A14: Wissenschaftliches Personal:
A15: W3 | B15: 0 | C15: 0 | D15: 0 | E15: 0 | F15: 0 | G15: 0
A16: W2 | B16: 0 | C16: 0 | D16: 0 | E16: 0 | F16: 0 | G16: 0
A17: TV-H 15 | B17: 0 | C17: 0 | D17: 0 | E17: 0 | F17: 0 | G17: 0
A18: TV-H 14 | B18: 0 | C18: 0 | D18: 0 | E18: 0 | F18: 0 | G18: 0
A19: TV-H 13 | B19: 0 | C19: 0 | D19: 0 | E19: 0 | F19: 0 | G19: 0
A20: TV-H 12 | B20: 0 | C20: 0 | D20: 0 | E20: 0 | F20: 0 | G20: 0
A21: … | B21: 0 | C21: 0 | D21: 0 | E21: 0 | F21: 0 | G21: 0
B22: 0 | C22: 0 | D22: 0 | E22: 0 | F22: 0 | G22: 0
A23: Wissenschaftl./Student. Hilfskräfte | B23: 0 | C23: 0 | D23: 0 | E23: 0 | F23: 0 | G23: 0
A24: Zw.-summe Wissenschaftl. Personal: | B24: =SUM(B15:B23) -> 0 | C24: =SUM(C15:C23) -> 0 | D24: =SUM(D15:D23) -> 0 | E24: =SUM(E15:E23) -> 0 | F24: =SUM(F15:F23) -> 0 | G24: =SUM(G15:G23) -> 0
A25: Nichtwissenschaftliches Personal (inkl. Administration):
A26: TV-H 15 | B26: 0 | C26: 0 | D26: 0 | E26: 0 | F26: 0 | G26: 0
A27: TV-H 14 | B27: 0 | C27: 0 | D27: 0 | E27: 0 | F27: 0 | G27: 0
A28: TV-H 13 | B28: 0 | C28: 0 | D28: 0 | E28: 0 | F28: 0 | G28: 0
A29: TV-H 12 | B29: 0 | C29: 0 | D29: 0 | E29: 0 | F29: 0 | G29: 0
A30: TV-H 11 | B30: 0 | C30: 0 | D30: 0 | E30: 0 | F30: 0 | G30: 0
A31: TV-H 10 | B31: 0 | C31: 0 | D31: 0 | E31: 0 | F31: 0 | G31: 0
A32: TV-H 9 | B32: 0 | C32: 0 | D32: 0 | E32: 0 | F32: 0 | G32: 0
A33: TV-H 8 | B33: 0 | C33: 0 | D33: 0 | E33: 0 | F33: 0 | G33: 0
A34: TV-H 7 | B34: 0 | C34: 0 | D34: 0 | E34: 0 | F34: 0 | G34: 0
B35: 0 | C35: 0 | D35: 0 | E35: 0 | F35: 0 | G35: 0
A36: … | B36: 0 | C36: 0 | D36: 0 | E36: 0 | F36: 0 | G36: 0
A37: Zw.-summe Nicht-Wissenschaftl. Personal: | B37: =SUM(B26:B36) -> 0 | C37: =SUM(C26:C36) -> 0 | D37: =SUM(D26:D36) -> 0 | E37: =SUM(E26:E36) -> 0 | F37: =SUM(F26:F36) -> 0 | G37: =SUM(G26:G36) -> 0
A38: SUMME STELLEN/PERSONALKOSTEN: | B38: =SUM(B24,B37) -> 0 | C38: =SUM(C24,C37) -> 0 | D38: =SUM(D24,D37) -> 0 | E38: =SUM(E24,E37) -> 0 | F38: =SUM(F24,F37) -> 0 | G38: =SUM(G24,G37) -> 0
A40: SACHKOSTEN < Euro 5.000: | B40: Kosten in € | E40: Kosten in €
A41: Publikationen | B41: 0 | E41: 0
A42: Reisekosten | B42: 0 | E42: 0
A43: Verbrauchsmittel / Labormaterial | B43: 0 | E43: 0
A44: z.B. …. | B44: 0 | E44: 0
A45: z.B. …. | B45: 0 | E45: 0
A46: z.B. …. | B46: 0 | E46: 0
A47: SUMME SACHKOSTEN: | B47: =SUM(B41:D46) -> 0 | E47: =SUM(E41:G46) -> 0
A49: Overhead / Gemeinkosten | B49: Kosten in € | E49: Kosten in €
B50: 0 | E50: 0
A52: SUMME total: | B52: =D38+B47+B50 -> 0 | E52: =G38+E47+E50 -> 0
A54: Zuwendungen aus LOEWE-Mittel: | B54: Kosten in € | E54: Kosten in €
A55: Zuwendungen Betrieb | B55: 0 | E55: 0
A56: Zuwendungen Overhead | B56: 0 | E56: 0
A57: SUMME ZUWENDUNGEN LOEWE | B57: =SUM(B55:D56) -> 0 | E57: =SUM(E55:G56) -> 0
A59: Kassenstand Jahresanfang:
A60: Kassenstand Jahresende: | E60: =E57-E52 -> 0
A63: Eigenanteil der antragstellenden Einrichtung: | B63: Kosten in € | E63: Kosten in €
A64: Personalkosten | B64: =SUM(B65:D66) -> 0 | E64: =SUM(E65:G66) -> 0
A65: z.B. davon | B65: 0 | E65: 0
A66: z.B. davon | B66: 0 | E66: 0
A67: Sachkosten | B67: =SUM(B68:D69) -> 0 | E67: =SUM(E68:G69) -> 0
A68: z.B. davon | B68: 0 | E68: 0
A69: z.B. davon | B69: 0 | E69: 0
A70: SUMME EIGENANTEIL: | B70: =SUM(B64+B67) -> 0 | E70: =SUM(E64+E67) -> 0
A72: Eigenanteil Gesamt in % | B72: =SUM(B70:G70)/SUM(B74:G74) -> #DIV/0!
A74: FINANZBEDARF total: | B74: =SUM(B57+B70) -> 0 | E74: =SUM(E52+E70) -> 0
A76: Erläuterung zu den Abweichungen:

Sheet Partner_2
A1: Verwendungsnachweis Finanzplan LOEWE-Exploration
A3: Partner:
A6: PROJEKTTITEL
A7: WISS. KOORDINATION
A8: FEDERFÜHRENDE Einrichtung:
A9: Förderzeitraum:
A11: SOLL / IST Vergleich verwendete Mittel | B11: SOLL Haushaltsjahr 20… | E11: IST Haushaltsjahr 20 …
A13: PERSONALKOSTEN (AG-Brutto ohne Arbeitsplatzkosten): | B13: Personen / Jahr | C13: Personenmonate /Jahr | D13: Kosten / Jahr in € | E13: Personen / Jahr | F13: Personenmonate /Jahr | G13: Kosten / Jahr in €
A14: Wissenschaftliches Personal:
A15: W3 | B15: 0 | C15: 0 | D15: 0 | E15: 0 | F15: 0 | G15: 0
A16: W2 | B16: 0 | C16: 0 | D16: 0 | E16: 0 | F16: 0 | G16: 0
A17: TV-H 15 | B17: 0 | C17: 0 | D17: 0 | E17: 0 | F17: 0 | G17: 0
A18: TV-H 14 | B18: 0 | C18: 0 | D18: 0 | E18: 0 | F18: 0 | G18: 0
A19: TV-H 13 | B19: 0 | C19: 0 | D19: 0 | E19: 0 | F19: 0 | G19: 0
A20: TV-H 12 | B20: 0 | C20: 0 | D20: 0 | E20: 0 | F20: 0 | G20: 0
A21: … | B21: 0 | C21: 0 | D21: 0 | E21: 0 | F21: 0 | G21: 0
B22: 0 | C22: 0 | D22: 0 | E22: 0 | F22: 0 | G22: 0
A23: Wissenschaftl./Student. Hilfskräfte | B23: 0 | C23: 0 | D23: 0 | E23: 0 | F23: 0 | G23: 0
A24: Zw.-summe Wissenschaftl. Personal: | B24: =SUM(B15:B23) -> 0 | C24: =SUM(C15:C23) -> 0 | D24: =SUM(D15:D23) -> 0 | E24: =SUM(E15:E23) -> 0 | F24: =SUM(F15:F23) -> 0 | G24: =SUM(G15:G23) -> 0
A25: Nichtwissenschaftliches Personal (inkl. Administration):
A26: TV-H 15 | B26: 0 | C26: 0 | D26: 0 | E26: 0 | F26: 0 | G26: 0
A27: TV-H 14 | B27: 0 | C27: 0 | D27: 0 | E27: 0 | F27: 0 | G27: 0
A28: TV-H 13 | B28: 0 | C28: 0 | D28: 0 | E28: 0 | F28: 0 | G28: 0
A29: TV-H 12 | B29: 0 | C29: 0 | D29: 0 | E29: 0 | F29: 0 | G29: 0
A30: TV-H 11 | B30: 0 | C30: 0 | D30: 0 | E30: 0 | F30: 0 | G30: 0
A31: TV-H 10 | B31: 0 | C31: 0 | D31: 0 | E31: 0 | F31: 0 | G31: 0
A32: TV-H 9 | B32: 0 | C32: 0 | D32: 0 | E32: 0 | F32: 0 | G32: 0
A33: TV-H 8 | B33: 0 | C33: 0 | D33: 0 | E33: 0 | F33: 0 | G33: 0
A34: TV-H 7 | B34: 0 | C34: 0 | D34: 0 | E34: 0 | F34: 0 | G34: 0
B35: 0 | C35: 0 | D35: 0 | E35: 0 | F35: 0 | G35: 0
A36: … | B36: 0 | C36: 0 | D36: 0 | E36: 0 | F36: 0 | G36: 0
A37: Zw.-summe Nicht-Wissenschaftl. Personal: | B37: =SUM(B26:B36) -> 0 | C37: =SUM(C26:C36) -> 0 | D37: =SUM(D26:D36) -> 0 | E37: =SUM(E26:E36) -> 0 | F37: =SUM(F26:F36) -> 0 | G37: =SUM(G26:G36) -> 0
A38: SUMME STELLEN/PERSONALKOSTEN: | B38: =SUM(B24,B37) -> 0 | C38: =SUM(C24,C37) -> 0 | D38: =SUM(D24,D37) -> 0 | E38: =SUM(E24,E37) -> 0 | F38: =SUM(F24,F37) -> 0 | G38: =SUM(G24,G37) -> 0
A40: SACHKOSTEN inkl. Investitionen < Euro 5.000: | B40: Kosten in € | E40: Kosten in €
A41: Publikationen | B41: 0 | E41: 0
A42: Reisekosten | B42: 0 | E42: 0
A43: Verbrauchsmittel / Labormaterial | B43: 0 | E43: 0
A44: z.B. …. | B44: 0 | E44: 0
A45: z.B. …. | B45: 0 | E45: 0
A46: z.B. …. | B46: 0 | E46: 0
A47: SUMME SACHKOSTEN: | B47: =SUM(B41:D46) -> 0 | E47: =SUM(E41:G46) -> 0
A49: Overhead / Gemeinkosten | B49: Kosten in € | E49: Kosten in €
B50: 0 | E50: 0
A52: SUMME total: | B52: =D38+B47+B50 -> 0 | E52: =G38+E47+E50 -> 0
A54: Zuwendungen aus LOEWE-Mittel: | B54: Kosten in € | E54: Kosten in €
A55: Zuwendungen Betrieb | B55: 0 | E55: 0
A56: Zuwendungen Overhead | B56: 0 | E56: 0
A57: SUMME ZUWENDUNGEN LOEWE | B57: =SUM(B55:D56) -> 0 | E57: =SUM(E55:G56) -> 0
A59: Kassenstand Jahresanfang:
A60: Kassenstand Jahresende: | E60: =E57-E52 -> 0
A63: Eigenanteil der antragstellenden Einrichtung: | B63: Kosten in € | E63: Kosten in €
A64: Personalkosten | B64: =SUM(B65:D66) -> 0 | E64: =SUM(E65:G66) -> 0
A65: z.B. davon W3-Professur | B65: 0 | E65: 0
A66: z.B. davon | B66: 0 | E66: 0
A67: Sachkosten | B67: =SUM(B68:D69) -> 0 | E67: =SUM(E68:G69) -> 0
A68: z.B. davon Reisekosten in TP... | B68: 0 | E68: 0
A69: z.B. davon | B69: 0 | E69: 0
A70: Investitionen | B70: =SUM(B71:D72) -> 0 | E70: =SUM(E71:G72) -> 0
A71: z.B. davon Gerät XY | B71: 0 | E71: 0
A72: z.B. davon | B72: 0 | E72: 0
A73: SUMME EIGENANTEIL: | B73: =SUM(B64+B67+B70) -> 0 | E73: =SUM(E64+E67+E70) -> 0
A75: Eigenanteil Gesamt in % | B75: =SUM(B73:G73)/SUM(B77:G77) -> #DIV/0!
A77: FINANZBEDARF total: | B77: =SUM(B57+B73) -> 0 | E77: =SUM(E52+E73) -> 0
A79: Geplante Einwerbung von Drittmitteln: | B79: Kosten in € | E79: Kosten in €
A80: z.B DFG | B80: 0 | E80: 0
B81: 0 | E81: 0
B82: 0 | E82: 0
A83: SUMME EINWERBUNG VON DRITTMITTELN | B83: =SUM(B80:D82) -> 0 | E83: =SUM(E80:G82) -> 0
A85: Erläuterung zu den Abweichungen:
