Workbook

Sheet GESAMT
A1: Verwendungsnachweis Finanzplan LOEWE-Zentrum
A3: ÜBERSICHT GESAMT
A6: PROJEKTTITEL
A7: WISS. KOORDINATION
A8: FEDERFÜHRENDE Einrichtung:
A9: Förderzeitraum:
A11: SOLL / IST Vergleich verwendete Mittel | B11: SOLL Haushaltsjahr 20… | E11: IST Haushaltsjahr 20 …
A13: PERSONALKOSTEN (AG-Brutto ohne Arbeitsplatzkosten): | B13: Personen / Jahr | C13: Personenmonate /Jahr | D13: Kosten / Jahr in € | E13: Personen / Jahr | F13: Personenmonate /Jahr | G13: Kosten / Jahr in €
A14: Wissenschaftliches Personal:
A15: W3 | B15: =SUM('Federführ. nach Haushaltsjahren'!B15+Partner_1!B15+Partner_2!B15+Partner_3!B15+Partner_4!B15) -> 0 | C15: =SUM('Federführ. nach Haushaltsjahren'!C15+Partner_1!C15+Partner_2!C15+Partner_3!C15+Partner_4!C15) -> 0 | D15: =SUM('Federführ. nach Haushaltsjahren'!D15+Partner_1!D15+Partner_2!D15+Partner_3!D15+Partner_4!D15) -> 0 | E15: =SUM('Federführ. nach Haushaltsjahren'!E15+Partner_1!E15+Partner_2!E15+Partner_3!E15+Partner_4!E15) -> 0 | F15: =SUM('Federführ. nach Haushaltsjahren'!F15+Partner_1!F15+Partner_2!F15+Partner_3!F15+Partner_4!F15) -> 0 | G15: =SUM('Federführ. nach Haushaltsjahren'!G15+Partner_1!G15+Partner_2!G15+Partner_3!G15+Partner_4!G15) -> 0
A16: W2 | B16: =SUM('Federführ. nach Haushaltsjahren'!B16+Partner_1!B16+Partner_2!B16+Partner_3!B16+Partner_4!B16) -> 0 | C16: =SUM('Federführ. nach Haushaltsjahren'!C16+Partner_1!C16+Partner_2!C16+Partner_3!C16+Partner_4!C16) -> 0 | D16: =SUM('Federführ. nach Haushaltsjahren'!D16+Partner_1!D16+Partner_2!D16+Partner_3!D16+Partner_4!D16) -> 0 | E16: =SUM('Federführ. nach Haushaltsjahren'!E16+Partner_1!E16+Partner_2!E16+Partner_3!E16+Partner_4!E16) -> 0 | F16: =SUM('Federführ. nach Haushaltsjahren'!F16+Partner_1!F16+Partner_2!F16+Partner_3!F16+Partner_4!F16) -> 0 | G16: =SUM('Federführ. nach Haushaltsjahren'!G16+Partner_1!G16+Partner_2!G16+Partner_3!G16+Partner_4!G16) -> 0
A17: TV-H 15 | B17: =SUM('Federführ. nach Haushaltsjahren'!B17+Partner_1!B17+Partner_2!B17+Partner_3!B17+Partner_4!B17) -> 0 | C17: =SUM('Federführ. nach Haushaltsjahren'!C17+Partner_1!C17+Partner_2!C17+Partner_3!C17+Partner_4!C17) -> 0 | D17: =SUM('Federführ. nach Haushaltsjahren'!D17+Partner_1!D17+Partner_2!D17+Partner_3!D17+Partner_4!D17) -> 0 | E17: =SUM('Federführ. nach Haushaltsjahren'!E17+Partner_1!E17+Partner_2!E17+Partner_3!E17+Partner_4!E17) -> 0 | F17: =SUM('Federführ. nach Haushaltsjahren'!F17+Partner_1!F17+Partner_2!F17+Partner_3!F17+Partner_4!F17) -> 0 | G17: =SUM('Federführ. nach Haushaltsjahren'!G17+Partner_1!G17+Partner_2!G17+Partner_3!G17+Partner_4!G17) -> 0
A18: TV-H 14 | B18: =SUM('Federführ. nach Haushaltsjahren'!B18+Partner_1!B18+Partner_2!B18+Partner_3!B18+Partner_4!B18) -> 0 | C18: =SUM('Federführ. nach Haushaltsjahren'!C18+Partner_1!C18+Partner_2!C18+Partner_3!C18+Partner_4!C18) -> 0 | D18: =SUM('Federführ. nach Haushaltsjahren'!D18+Partner_1!D18+Partner_2!D18+Partner_3!D18+Partner_4!D18) -> 0 | E18: =SUM('Federführ. nach Haushaltsjahren'!E18+Partner_1!E18+Partner_2!E18+Partner_3!E18+Partner_4!E18) -> 0 | F18: =SUM('Federführ. nach Haushaltsjahren'!F18+Partner_1!F18+Partner_2!F18+Partner_3!F18+Partner_4!F18) -> 0 | G18: =SUM('Federführ. nach Haushaltsjahren'!G18+Partner_1!G18+Partner_2!G18+Partner_3!G18+Partner_4!G18) -> 0
A19: TV-H 13 | B19: =SUM('Federführ. nach Haushaltsjahren'!B19+Partner_1!B19+Partner_2!B19+Partner_3!B19+Partner_4!B19) -> 0 | C19: =SUM('Federführ. nach Haushaltsjahren'!C19+Partner_1!C19+Partner_2!C19+Partner_3!C19+Partner_4!C19) -> 0 | D19: =SUM('Federführ. nach Haushaltsjahren'!D19+Partner_1!D19+Partner_2!D19+Partner_3!D19+Partner_4!D19) -> 0 | E19: =SUM('Federführ. nach Haushaltsjahren'!E19+Partner_1!E19+Partner_2!E19+Partner_3!E19+Partner_4!E19) -> 0 | F19: =SUM('Federführ. nach Haushaltsjahren'!F19+Partner_1!F19+Partner_2!F19+Partner_3!F19+Partner_4!F19) -> 0 | G19: =SUM('Federführ. nach Haushaltsjahren'!G19+Partner_1!G19+Partner_2!G19+Partner_3!G19+Partner_4!G19) -> 0
A20: TV-H 12 | B20: =SUM('Federführ. nach Haushaltsjahren'!B20+Partner_1!B20+Partner_2!B20+Partner_3!B20+Partner_4!B20) -> 0 | C20: =SUM('Federführ. nach Haushaltsjahren'!C20+Partner_1!C20+Partner_2!C20+Partner_3!C20+Partner_4!C20) -> 0 | D20: =SUM('Federführ. nach Haushaltsjahren'!D20+Partner_1!D20+Partner_2!D20+Partner_3!D20+Partner_4!D20) -> 0 | E20: =SUM('Federführ. nach Haushaltsjahren'!E20+Partner_1!E20+Partner_2!E20+Partner_3!E20+Partner_4!E20) -> 0 | F20: =SUM('Federführ. nach Haushaltsjahren'!F20+Partner_1!F20+Partner_2!F20+Partner_3!F20+Partner_4!F20) -> 0 | G20: =SUM('Federführ. nach Haushaltsjahren'!G20+Partner_1!G20+Partner_2!G20+Partner_3!G20+Partner_4!G20) -> 0
A21: … | B21: =SUM('Federführ. nach Haushaltsjahren'!B21+Partner_1!B21+Partner_2!B21+Partner_3!B21+Partner_4!B21) -> 0 | C21: =SUM('Federführ. nach Haushaltsjahren'!C21+Partner_1!C21+Partner_2!C21+Partner_3!C21+Partner_4!C21) -> 0 | D21: =SUM('Federführ. nach Haushaltsjahren'!D21+Partner_1!D21+Partner_2!D21+Partner_3!D21+Partner_4!D21) -> 0 | E21: =SUM('Federführ. nach Haushaltsjahren'!E21+Partner_1!E21+Partner_2!E21+Partner_3!E21+Partner_4!E21) -> 0 | F21: =SUM('Federführ. nach Haushaltsjahren'!F21+Partner_1!F21+Partner_2!F21+Partner_3!F21+Partner_4!F21) -> 0 | G21: =SUM('Federführ. nach Haushaltsjahren'!G21+Partner_1!G21+Partner_2!G21+Partner_3!G21+Partner_4!G21) -> 0
B22: =SUM('Federführ. nach Haushaltsjahren'!B22+Partner_1!B22+Partner_2!B22+Partner_3!B22+Partner_4!B22) -> 0 | C22: =SUM('Federführ. nach Haushaltsjahren'!C22+Partner_1!C22+Partner_2!C22+Partner_3!C22+Partner_4!C22) -> 0 | D22: =SUM('Federführ. nach Haushaltsjahren'!D22+Partner_1!D22+Partner_2!D22+Partner_3!D22+Partner_4!D22) -> 0 | E22: =SUM('Federführ. nach Haushaltsjahren'!E22+Partner_1!E22+Partner_2!E22+Partner_3!E22+Partner_4!E22) -> 0 | F22: =SUM('Federführ. nach Haushaltsjahren'!F22+Partner_1!F22+Partner_2!F22+Partner_3!F22+Partner_4!F22) -> 0 | G22: =SUM('Federführ. nach Haushaltsjahren'!G22+Partner_1!G22+Partner_2!G22+Partner_3!G22+Partner_4!G22) -> 0
A23: Wissenschaftl./Student. Hilfskräfte | B23: =SUM('Federführ. nach Haushaltsjahren'!B23+Partner_1!B23+Partner_2!B23+Partner_3!B23+Partner_4!B23) -> 0 | C23: =SUM('Federführ. nach Haushaltsjahren'!C23+Partner_1!C23+Partner_2!C23+Partner_3!C23+Partner_4!C23) -> 0 | D23: =SUM('Federführ. nach Haushaltsjahren'!D23+Partner_1!D23+Partner_2!D23+Partner_3!D23+Partner_4!D23) -> 0 | E23: =SUM('Federführ. nach Haushaltsjahren'!E23+Partner_1!E23+Partner_2!E23+Partner_3!E23+Partner_4!E23) -> 0 | F23: =SUM('Federführ. nach Haushaltsjahren'!F23+Partner_1!F23+Partner_2!F23+Partner_3!F23+Partner_4!F23) -> 0 | G23: =SUM('Federführ. nach Haushaltsjahren'!G23+Partner_1!G23+Partner_2!G23+Partner_3!G23+Partner_4!G23) -> 0
A24: Zw.-summe Wissenschaftl. Personal: | B24: =SUM(B15:B23) -> 0 | C24: =SUM(C15:C23) -> 0 | D24: =SUM(D15:D23) -> 0 | E24: =SUM(E15:E23) -> 0 | F24: =SUM(F15:F23) -> 0 | G24: =SUM(G15:G23) -> 0
A25: Nichtwissenschaftliches Personal (inkl. Administration):
A26: TV-H 15 | B26: =SUM('Federführ. nach Haushaltsjahren'!B26+Partner_1!B26+Partner_2!B26+Partner_3!B26+Partner_4!B26) -> 0 | C26: =SUM('Federführ. nach Haushaltsjahren'!C26+Partner_1!C26+Partner_2!C26+Partner_3!C26+Partner_4!C26) -> 0 | D26: =SUM('Federführ. nach Haushaltsjahren'!D26+Partner_1!D26+Partner_2!D26+Partner_3!D26+Partner_4!D26) -> 0 | E26: =SUM('Federführ. nach Haushaltsjahren'!E26+Partner_1!E26+Partner_2!E26+Partner_3!E26+Partner_4!E26) -> 0 | F26: =SUM('Federführ. nach Haushaltsjahren'!F26+Partner_1!F26+Partner_2!F26+Partner_3!F26+Partner_4!F26) -> 0 | G26: =SUM('Federführ. nach Haushaltsjahren'!G26+Partner_1!G26+Partner_2!G26+Partner_3!G26+Partner_4!G26) -> 0
A27: TV-H 14 | B27: =SUM('Federführ. nach Haushaltsjahren'!B27+Partner_1!B27+Partner_2!B27+Partner_3!B27+Partner_4!B27) -> 0 | C27: =SUM('Federführ. nach Haushaltsjahren'!C27+Partner_1!C27+Partner_2!C27+Partner_3!C27+Partner_4!C27) -> 0 | D27: =SUM('Federführ. nach Haushaltsjahren'!D27+Partner_1!D27+Partner_2!D27+Partner_3!D27+Partner_4!D27) -> 0 | E27: =SUM('Federführ. nach Haushaltsjahren'!E27+Partner_1!E27+Partner_2!E27+Partner_3!E27+Partner_4!E27) -> 0 | F27: =SUM('Federführ. nach Haushaltsjahren'!F27+Partner_1!F27+Partner_2!F27+Partner_3!F27+Partner_4!F27) -> 0 | G27: =SUM('Federführ. nach Haushaltsjahren'!G27+Partner_1!G27+Partner_2!G27+Partner_3!G27+Partner_4!G27) -> 0
A28: TV-H 13 | B28: =SUM('Federführ. nach Haushaltsjahren'!B28+Partner_1!B28+Partner_2!B28+Partner_3!B28+Partner_4!B28) -> 0 | C28: =SUM('Federführ. nach Haushaltsjahren'!C28+Partner_1!C28+Partner_2!C28+Partner_3!C28+Partner_4!C28) -> 0 | D28: =SUM('Federführ. nach Haushaltsjahren'!D28+Partner_1!D28+Partner_2!D28+Partner_3!D28+Partner_4!D28) -> 0 | E28: =SUM('Federführ. nach Haushaltsjahren'!E28+Partner_1!E28+Partner_2!E28+Partner_3!E28+Partner_4!E28) -> 0 | F28: =SUM('Federführ. nach Haushaltsjahren'!F28+Partner_1!F28+Partner_2!F28+Partner_3!F28+Partner_4!F28) -> 0 | G28: =SUM('Federführ. nach Haushaltsjahren'!G28+Partner_1!G28+Partner_2!G28+Partner_3!G28+Partner_4!G28) -> 0
A29: TV-H 12 | B29: =SUM('Federführ. nach Haushaltsjahren'!B29+Partner_1!B29+Partner_2!B29+Partner_3!B29+Partner_4!B29) -> 0 | C29: =SUM('Federführ. nach Haushaltsjahren'!C29+Partner_1!C29+Partner_2!C29+Partner_3!C29+Partner_4!C29) -> 0 | D29: =SUM('Federführ. nach Haushaltsjahren'!D29+Partner_1!D29+Partner_2!D29+Partner_3!D29+Partner_4!D29) -> 0 | E29: =SUM('Federführ. nach Haushaltsjahren'!E29+Partner_1!E29+Partner_2!E29+Partner_3!E29+Partner_4!E29) -> 0 | F29: =SUM('Federführ. nach Haushaltsjahren'!F29+Partner_1!F29+Partner_2!F29+Partner_3!F29+Partner_4!F29) -> 0 | G29: =SUM('Federführ. nach Haushaltsjahren'!G29+Partner_1!G29+Partner_2!G29+Partner_3!G29+Partner_4!G29) -> 0
A30: TV-H 11 | B30: =SUM('Federführ. nach Haushaltsjahren'!B30+Partner_1!B30+Partner_2!B30+Partner_3!B30+Partner_4!B30) -> 0 | C30: =SUM('Federführ. nach Haushaltsjahren'!C30+Partner_1!C30+Partner_2!C30+Partner_3!C30+Partner_4!C30) -> 0 | D30: =SUM('Federführ. nach Haushaltsjahren'!D30+Partner_1!D30+Partner_2!D30+Partner_3!D30+Partner_4!D30) -> 0 | E30: =SUM('Federführ. nach Haushaltsjahren'!E30+Partner_1!E30+Partner_2!E30+Partner_3!E30+Partner_4!E30) -> 0 | F30: =SUM('Federführ. nach Haushaltsjahren'!F30+Partner_1!F30+Partner_2!F30+Partner_3!F30+Partner_4!F30) -> 0 | G30: =SUM('Federführ. nach Haushaltsjahren'!G30+Partner_1!G30+Partner_2!G30+Partner_3!G30+Partner_4!G30) -> 0
A31: TV-H 10 | B31: =SUM('Federführ. nach Haushaltsjahren'!B31+Partner_1!B31+Partner_2!B31+Partner_3!B31+Partner_4!B31) -> 0 | C31: =SUM('Federführ. nach Haushaltsjahren'!C31+Partner_1!C31+Partner_2!C31+Partner_3!C31+Partner_4!C31) -> 0 | D31: =SUM('Federführ. nach Haushaltsjahren'!D31+Partner_1!D31+Partner_2!D31+Partner_3!D31+Partner_4!D31) -> 0 | E31: =SUM('Federführ. nach Haushaltsjahren'!E31+Partner_1!E31+Partner_2!E31+Partner_3!E31+Partner_4!E31) -> 0 | F31: =SUM('Federführ. nach Haushaltsjahren'!F31+Partner_1!F31+Partner_2!F31+Partner_3!F31+Partner_4!F31) -> 0 | G31: =SUM('Federführ. nach Haushaltsjahren'!G31+Partner_1!G31+Partner_2!G31+Partner_3!G31+Partner_4!G31) -> 0
A32: TV-H 9 | B32: =SUM('Federführ. nach Haushaltsjahren'!B32+Partner_1!B32+Partner_2!B32+Partner_3!B32+Partner_4!B32) -> 0 | C32: =SUM('Federführ. nach Haushaltsjahren'!C32+Partner_1!C32+Partner_2!C32+Partner_3!C32+Partner_4!C32) -> 0 | D32: =SUM('Federführ. nach Haushaltsjahren'!D32+Partner_1!D32+Partner_2!D32+Partner_3!D32+Partner_4!D32) -> 0 | E32: =SUM('Federführ. nach Haushaltsjahren'!E32+Partner_1!E32+Partner_2!E32+Partner_3!E32+Partner_4!E32) -> 0 | F32: =SUM('Federführ. nach Haushaltsjahren'!F32+Partner_1!F32+Partner_2!F32+Partner_3!F32+Partner_4!F32) -> 0 | G32: =SUM('Federführ. nach Haushaltsjahren'!G32+Partner_1!G32+Partner_2!G32+Partner_3!G32+Partner_4!G32) -> 0
A33: TV-H 8 | B33: =SUM('Federführ. nach Haushaltsjahren'!B33+Partner_1!B33+Partner_2!B33+Partner_3!B33+Partner_4!B33) -> 0 | C33: =SUM('Federführ. nach Haushaltsjahren'!C33+Partner_1!C33+Partner_2!C33+Partner_3!C33+Partner_4!C33) -> 0 | D33: =SUM('Federführ. nach Haushaltsjahren'!D33+Partner_1!D33+Partner_2!D33+Partner_3!D33+Partner_4!D33) -> 0 | E33: =SUM('Federführ. nach Haushaltsjahren'!E33+Partner_1!E33+Partner_2!E33+Partner_3!E33+Partner_4!E33) -> 0 | F33: =SUM('Federführ. nach Haushaltsjahren'!F33+Partner_1!F33+Partner_2!F33+Partner_3!F33+Partner_4!F33) -> 0 | G33: =SUM('Federführ. nach Haushaltsjahren'!G33+Partner_1!G33+Partner_2!G33+Partner_3!G33+Partner_4!G33) -> 0
A34: TV-H 7 | B34: =SUM('Federführ. nach Haushaltsjahren'!B34+Partner_1!B34+Partner_2!B34+Partner_3!B34+Partner_4!B34) -> 0 | C34: =SUM('Federführ. nach Haushaltsjahren'!C34+Partner_1!C34+Partner_2!C34+Partner_3!C34+Partner_4!C34) -> 0 | D34: =SUM('Federführ. nach Haushaltsjahren'!D34+Partner_1!D34+Partner_2!D34+Partner_3!D34+Partner_4!D34) -> 0 | E34: =SUM('Federführ. nach Haushaltsjahren'!E34+Partner_1!E34+Partner_2!E34+Partner_3!E34+Partner_4!E34) -> 0 | F34: =SUM('Federführ. nach Haushaltsjahren'!F34+Partner_1!F34+Partner_2!F34+Partner_3!F34+Partner_4!F34) -> 0 | G34: =SUM('Federführ. nach Haushaltsjahren'!G34+Partner_1!G34+Partner_2!G34+Partner_3!G34+Partner_4!G34) -> 0
B35: =SUM('Federführ. nach Haushaltsjahren'!B35+Partner_1!B35+Partner_2!B35+Partner_3!B35+Partner_4!B35) -> 0 | C35: =SUM('Federführ. nach Haushaltsjahren'!C35+Partner_1!C35+Partner_2!C35+Partner_3!C35+Partner_4!C35) -> 0 | D35: =SUM('Federführ. nach Haushaltsjahren'!D35+Partner_1!D35+Partner_2!D35+Partner_3!D35+Partner_4!D35) -> 0 | E35: =SUM('Federführ. nach Haushaltsjahren'!E35+Partner_1!E35+Partner_2!E35+Partner_3!E35+Partner_4!E35) -> 0 | F35: =SUM('Federführ. nach Haushaltsjahren'!F35+Partner_1!F35+Partner_2!F35+Partner_3!F35+Partner_4!F35) -> 0 | G35: =SUM('Federführ. nach Haushaltsjahren'!G35+Partner_1!G35+Partner_2!G35+Partner_3!G35+Partner_4!G35) -> 0
A36: … | B36: =SUM('Federführ. nach Haushaltsjahren'!B36+Partner_1!B36+Partner_2!B36+Partner_3!B36+Partner_4!B36) -> 0 | C36: =SUM('Federführ. nach Haushaltsjahren'!C36+Partner_1!C36+Partner_2!C36+Partner_3!C36+Partner_4!C36) -> 0 | D36: =SUM('Federführ. nach Haushaltsjahren'!D36+Partner_1!D36+Partner_2!D36+Partner_3!D36+Partner_4!D36) -> 0 | E36: =SUM('Federführ. nach Haushaltsjahren'!E36+Partner_1!E36+Partner_2!E36+Partner_3!E36+Partner_4!E36) -> 0 | F36: =SUM('Federführ. nach Haushaltsjahren'!F36+Partner_1!F36+Partner_2!F36+Partner_3!F36+Partner_4!F36) -> 0 | G36: =SUM('Federführ. nach Haushaltsjahren'!G36+Partner_1!G36+Partner_2!G36+Partner_3!G36+Partner_4!G36) -> 0
A37: Zw.-summe Nicht-Wissenschaftl. Personal: | B37: =SUM(B26:B36) -> 0 | C37: =SUM(C26:C36) -> 0 | D37: =SUM(D26:D36) -> 0 | E37: =SUM(E26:E36) -> 0 | F37: =SUM(F26:F36) -> 0 | G37: =SUM(G26:G36) -> 0
A38: SUMME STELLEN/PERSONALKOSTEN: | B38: =SUM(B24,B37) -> 0 | C38: =SUM(C24,C37) -> 0 | D38: =SUM(D24,D37) -> 0 | E38: =SUM(E24,E37) -> 0 | F38: =SUM(F24,F37) -> 0 | G38: =SUM(G24,G37) -> 0
A40: SACHKOSTEN inkl. Investitionen < Euro 5.000: | B40: Kosten in € | E40: Kosten in €
A41: Publikationen | B41: =SUM('Federführ. nach Haushaltsjahren'!B41+Partner_1!B41+Partner_2!B41+Partner_3!B41+Partner_4!B41) -> 0 | E41: =SUM('Federführ. nach Haushaltsjahren'!E41+Partner_1!E41+Partner_2!E41+Partner_3!E41+Partner_4!E41) -> 0
A42: Reisekosten | B42: =SUM('Federführ. nach Haushaltsjahren'!B42+Partner_1!B42+Partner_2!B42+Partner_3!B42+Partner_4!B42) -> 0 | E42: =SUM('Federführ. nach Haushaltsjahren'!E42+Partner_1!E42+Partner_2!E42+Partner_3!E42+Partner_4!E42) -> 0
A43: Verbrauchsmittel / Labormaterial | B43: =SUM('Federführ. nach Haushaltsjahren'!B43+Partner_1!B43+Partner_2!B43+Partner_3!B43+Partner_4!B43) -> 0 | E43: =SUM('Federführ. nach Haushaltsjahren'!E43+Partner_1!E43+Partner_2!E43+Partner_3!E43+Partner_4!E43) -> 0
A44: z.B. …. | B44: =SUM('Federführ. nach Haushaltsjahren'!B44+Partner_1!B44+Partner_2!B44+Partner_3!B44+Partner_4!B44) -> 0 | E44: =SUM('Federführ. nach Haushaltsjahren'!E44+Partner_1!E44+Partner_2!E44+Partner_3!E44+Partner_4!E44) -> 0
A45: z.B. …. | B45: =SUM('Federführ. nach Haushaltsjahren'!B45+Partner_1!B45+Partner_2!B45+Partner_3!B45+Partner_4!B45) -> 0 | E45: =SUM('Federführ. nach Haushaltsjahren'!E45+Partner_1!E45+Partner_2!E45+Partner_3!E45+Partner_4!E45) -> 0
A46: z.B. …. | B46: =SUM('Federführ. nach Haushaltsjahren'!B46+Partner_1!B46+Partner_2!B46+Partner_3!B46+Partner_4!B46) -> 0 | E46: =SUM('Federführ. nach Haushaltsjahren'!E46+Partner_1!E46+Partner_2!E46+Partner_3!E46+Partner_4!E46) -> 0
...

Sheet Federführ. nach Haushaltsjahren
A1: Verwendungsnachweis Finanzplan LOEWE-Zentrum
A3: Federführung:
A6: PROJEKTTITEL
A7: WISS. KOORDINATION
A8: FEDERFÜHRENDE Einrichtung:
A9: Förderzeitraum:
A11: SOLL / IST Vergleich verwendete Mittel | B11: SOLL Haushaltsjahr 20… | E11: IST Haushaltsjahr 20 …
A13: PERSONALKOSTEN (AG-Brutto ohne Arbeitsplatzkosten): | B13: Personen / Jahr | C13: Personenmonate /Jahr | D13: Kosten / Jahr in € | E13: Personen / Jahr | F13: Personenmonate /Jahr | G13: Kosten / Jahr in €
A14: Wissenschaftliches Personal:
A15: W3 | B15: 0 | C15: 0 | D15: 0 | E15: 0 | F15: 0 | G15: 0
A16: W2 | B16: 0 | C16: 0 | D16: 0 | E16: 0 | F16: 0 | G16: 0
A17: TV-H 15 | B17: 0 | C17: 0 | D17: 0 | E17: 0 | F17: 0 | G17: 0
A18: TV-H 14 | B18: 0 | C18: 0 | D18: 0 | E18: 0 | F18: 0 | G18: 0
A19: TV-H 13 | B19: 0 | C19: 0 | D19: 0 | E19: 0 | F19: 0 | G19: 0
A20: TV-H 12 | B20: 0 | C20: 0 | D20: 0 | E20: 0 | F20: 0 | G20: 0
A21: … | B21: 0 | C21: 0 | D21: 0 | E21: 0 | F21: 0 | G21: 0
B22: 0 | C22: 0 | D22: 0 | E22: 0 | F22: 0 | G22: 0
A23: Wissenschaftl./Student. Hilfskräfte | B23: 0 | C23: 0 | D23: 0 | E23: 0 | F23: 0 | G23: 0
A24: Zw.-summe Wissenschaftl. Personal: | B24: =SUM(B15:B23) -> 0 | C24: =SUM(C15:C23) -> 0 | D24: =SUM(D15:D23) -> 0 | E24: =SUM(E15:E23) -> 0 | F24: =SUM(F15:F23) -> 0 | G24: =SUM(G15:G23) -> 0
A25: Nichtwissenschaftliches Personal (inkl. Administration):
A26: TV-H 15 | B26: 0 | C26: 0 | D26: 0 | E26: 0 | F26: 0 | G26: 0
A27: TV-H 14 | B27: 0 | C27: 0 | D27: 0 | E27: 0 | F27: 0 | G27: 0
A28: TV-H 13 | B28: 0 | C28: 0 | D28: 0 | E28: 0 | F28: 0 | G28: 0
A29: TV-H 12 | B29: 0 | C29: 0 | D29: 0 | E29: 0 | F29: 0 | G29: 0
A30: TV-H 11 | B30: 0 | C30: 0 | D30: 0 | E30: 0 | F30: 0 | G30: 0
A31: TV-H 10 | B31: 0 | C31: 0 | D31: 0 | E31: 0 | F31: 0 | G31: 0
A32: TV-H 9 | B32: 0 | C32: 0 | D32: 0 | E32: 0 | F32: 0 | G32: 0
A33: TV-H 8 | B33: 0 | C33: 0 | D33: 0 | E33: 0 | F33: 0 | G33: 0
A34: TV-H 7 | B34: 0 | C34: 0 | D34: 0 | E34: 0 | F34: 0 | G34: 0
B35: 0 | C35: 0 | D35: 0 | E35: 0 | F35: 0 | G35: 0
A36: … | B36: 0 | C36: 0 | D36: 0 | E36: 0 | F36: 0 | G36: 0
A37: Zw.-summe Nicht-Wissenschaftl. Personal: | B37: =SUM(B26:B36) -> 0 | C37: =SUM(C26:C36) -> 0 | D37: =SUM(D26:D36) -> 0 | E37: =SUM(E26:E36) -> 0 | F37: =SUM(F26:F36) -> 0 | G37: =SUM(G26:G36) -> 0
A38: SUMME STELLEN/PERSONALKOSTEN: | B38: =SUM(B24,B37) -> 0 | C38: =SUM(C24,C37) -> 0 | D38: =SUM(D24,D37) -> 0 | E38: =SUM(E24,E37) -> 0 | F38: =SUM(F24,F37) -> 0 | G38: =SUM(G24,G37) -> 0
A40: SACHKOSTEN inkl. Investitionen < Euro 5.000: | B40: Kosten in € | E40: Kosten in €
A41: Publikationen | B41: 0 | E41: 0
A42: Reisekosten | B42: 0 | E42: 0
A43: Verbrauchsmittel / Labormaterial | B43: 0 | E43: 0
A44: z.B. …. | B44: 0 | E44: 0
A45: z.B. …. | B45: 0 | E45: 0
A46: z.B. …. | B46: 0 | E46: 0
...

Sheet Partner_1
A1: Verwendungsnachweis Finanzplan LOEWE-Zentrum
A3: Partner:
A6: PROJEKTTITEL
A7: WISS. KOORDINATION
A8: FEDERFÜHRENDE Einrichtung:
A9: Förderzeitraum:
A11: SOLL / IST Vergleich verwendete Mittel | B11: SOLL Haushaltsjahr 20… | E11: IST Haushaltsjahr 20 …
A13: PERSONALKOSTEN (AG-Brutto ohne Arbeitsplatzkosten): | B13: Personen / Jahr | C13: Personenmonate /Jahr | D13: Kosten / Jahr in € | E13: Personen / Jahr | F13: Personenmonate /Jahr | G13: Kosten / Jahr in €
A14: Wissenschaftliches Personal:
A15: W3 | B15: 0 | C15: 0 | D15: 0 | E15: 0 | F15: 0 | G15: 0
A16: W2 | B16: 0 | C16: 0 | D16: 0 | E16: 0 | F16: 0 | G16: 0
A17: TV-H 15 | B17: 0 | C17: 0 | D17: 0 | E17: 0 | F17: 0 | G17: 0
A18: TV-H 14 | B18: 0 | C18: 0 | D18: 0 | E18: 0 | F18: 0 | G18: 0
A19: TV-H 13 | B19: 0 | C19: 0 | D19: 0 | E19: 0 | F19: 0 | G19: 0
A20: TV-H 12 | B20: 0 | C20: 0 | D20: 0 | E20: 0 | F20: 0 | G20: 0
A21: … | B21: 0 | C21: 0 | D21: 0 | E21: 0 | F21: 0 | G21: 0
B22: 0 | C22: 0 | D22: 0 | E22: 0 | F22: 0 | G22: 0
A23: Wissenschaftl./Student. Hilfskräfte | B23: 0 | C23: 0 | D23: 0 | E23: 0 | F23: 0 | G23: 0
A24: Zw.-summe Wissenschaftl. Personal: | B24: =SUM(B15:B23) -> 0 | C24: =SUM(C15:C23) -> 0 | D24: =SUM(D15:D23) -> 0 | E24: =SUM(E15:E23) -> 0 | F24: =SUM(F15:F23) -> 0 | G24: =SUM(G15:G23) -> 0
A25: Nichtwissenschaftliches Personal (inkl. Administration):
A26: TV-H 15 | B26: 0 | C26: 0 | D26: 0 | E26: 0 | F26: 0 | G26: 0
A27: TV-H 14 | B27: 0 | C27: 0 | D27: 0 | E27: 0 | F27: 0 | G27: 0
A28: TV-H 13 | B28: 0 | C28: 0 | D28: 0 | E28: 0 | F28: 0 | G28: 0
A29: TV-H 12 | B29: 0 | C29: 0 | D29: 0 | E29: 0 | F29: 0 | G29: 0
A30: TV-H 11 | B30: 0 | C30: 0 | D30: 0 | E30: 0 | F30: 0 | G30: 0
A31: TV-H 10 | B31: 0 | C31: 0 | D31: 0 | E31: 0 | F31: 0 | G31: 0
A32: TV-H 9 | B32: 0 | C32: 0 | D32: 0 | E32: 0 | F32: 0 | G32: 0
A33: TV-H 8 | B33: 0 | C33: 0 | D33: 0 | E33: 0 | F33: 0 | G33: 0
A34: TV-H 7 | B34: 0 | C34: 0 | D34: 0 | E34: 0 | F34: 0 | G34: 0
B35: 0 | C35: 0 | D35: 0 | E35: 0 | F35: 0 | G35: 0
A36: … | B36: 0 | C36: 0 | D36: 0 | E36: 0 | F36: 0 | G36: 0
A37: Zw.-summe Nicht-Wissenschaftl. Personal: | B37: =SUM(B26:B36) -> 0 | C37: =SUM(C26:C36) -> 0 | D37: =SUM(D26:D36) -> 0 | E37: =SUM(E26:E36) -> 0 | F37: =SUM(F26:F36) -> 0 | G37: =SUM(G26:G36) -> 0
A38: SUMME STELLEN/PERSONALKOSTEN: | B38: =SUM(B24,B37) -> 0 | C38: =SUM(C24,C37) -> 0 | D38: =SUM(D24,D37) -> 0 | E38: =SUM(E24,E37) -> 0 | F38: =SUM(F24,F37) -> 0 | G38: =SUM(G24,G37) -> 0
A40: SACHKOSTEN inkl. Investitionen < Euro 5.000: | B40: Kosten in € | E40: Kosten in €
A41: Publikationen | B41: 0 | E41: 0
A42: Reisekosten | B42: 0 | E42: 0
A43: Verbrauchsmittel / Labormaterial | B43: 0 | E43: 0
A44: z.B. …. | B44: 0 | E44: 0
A45: z.B. …. | B45: 0 | E45: 0
A46: z.B. …. | B46: 0 | E46: 0
...

Sheet Partner_2
A1: Verwendungsnachweis Finanzplan LOEWE-Zentrum
A3: Partner:
A6: PROJEKTTITEL
A7: WISS. KOORDINATION
A8: FEDERFÜHRENDE Einrichtung:
A9: Förderzeitraum:
A11: SOLL / IST Vergleich verwendete Mittel | B11: SOLL Haushaltsjahr 20… | E11: IST Haushaltsjahr 20 …
A13: PERSONALKOSTEN (AG-Brutto ohne Arbeitsplatzkosten): | B13: Personen / Jahr | C13: Personenmonate /Jahr | D13: Kosten / Jahr in € | E13: Personen / Jahr | F13: Personenmonate /Jahr | G13: Kosten / Jahr in €
A14: Wissenschaftliches Personal:
A15: W3 | B15: 0 | C15: 0 | D15: 0 | E15: 0 | F15: 0 | G15: 0
A16: W2 | B16: 0 | C16: 0 | D16: 0 | E16: 0 | F16: 0 | G16: 0
A17: TV-H 15 | B17: 0 | C17: 0 | D17: 0 | E17: 0 | F17: 0 | G17: 0
A18: TV-H 14 | B18: 0 | C18: 0 | D18: 0 | E18: 0 | F18: 0 | G18: 0
A19: TV-H 13 | B19: 0 | C19: 0 | D19: 0 | E19: 0 | F19: 0 | G19: 0
A20: TV-H 12 | B20: 0 | C20: 0 | D20: 0 | E20: 0 | F20: 0 | G20: 0
A21: … | B21: 0 | C21: 0 | D21: 0 | E21: 0 | F21: 0 | G21: 0
B22: 0 | C22: 0 | D22: 0 | E22: 0 | F22: 0 | G22: 0
A23: Wissenschaftl./Student. Hilfskräfte | B23: 0 | C23: 0 | D23: 0 | E23: 0 | F23: 0 | G23: 0
A24: Zw.-summe Wissenschaftl. Personal: | B24: =SUM(B15:B23) -> 0 | C24: =SUM(C15:C23) -> 0 | D24: =SUM(D15:D23) -> 0 | E24: =SUM(E15:E23) -> 0 | F24: =SUM(F15:F23) -> 0 | G24: =SUM(G15:G23) -> 0
A25: Nichtwissenschaftliches Personal (inkl. Administration):
A26: TV-H 15 | B26: 0 | C26: 0 | D26: 0 | E26: 0 | F26: 0 | G26: 0
A27: TV-H 14 | B27: 0 | C27: 0 | D27: 0 | E27: 0 | F27: 0 | G27: 0
A28: TV-H 13 | B28: 0 | C28: 0 | D28: 0 | E28: 0 | F28: 0 | G28: 0
A29: TV-H 12 | B29: 0 | C29: 0 | D29: 0 | E29: 0 | F29: 0 | G29: 0
A30: TV-H 11 | B30: 0 | C30: 0 | D30: 0 | E30: 0 | F30: 0 | G30: 0
A31: TV-H 10 | B31: 0 | C31: 0 | D31: 0 | E31: 0 | F31: 0 | G31: 0
A32: TV-H 9 | B32: 0 | C32: 0 | D32: 0 | E32: 0 | F32: 0 | G32: 0
A33: TV-H 8 | B33: 0 | C33: 0 | D33: 0 | E33: 0 | F33: 0 | G33: 0
A34: TV-H 7 | B34: 0 | C34: 0 | D34: 0 | E34: 0 | F34: 0 | G34: 0
B35: 0 | C35: 0 | D35: 0 | E35: 0 | F35: 0 | G35: 0
A36: … | B36: 0 | C36: 0 | D36: 0 | E36: 0 | F36: 0 | G36: 0
A37: Zw.-summe Nicht-Wissenschaftl. Personal: | B37: =SUM(B26:B36) -> 0 | C37: =SUM(C26:C36) -> 0 | D37: =SUM(D26:D36) -> 0 | E37: =SUM(E26:E36) -> 0 | F37: =SUM(F26:F36) -> 0 | G37: =SUM(G26:G36) -> 0
A38: SUMME STELLEN/PERSONALKOSTEN: | B38: =SUM(B24,B37) -> 0 | C38: =SUM(C24,C37) -> 0 | D38: =SUM(D24,D37) -> 0 | E38: =SUM(E24,E37) -> 0 | F38: =SUM(F24,F37) -> 0 | G38: =SUM(G24,G37) -> 0
A40: SACHKOSTEN inkl. Investitionen < Euro 5.000: | B40: Kosten in € | E40: Kosten in €
A41: Publikationen | B41: 0 | E41: 0
A42: Reisekosten | B42: 0 | E42: 0
A43: Verbrauchsmittel / Labormaterial | B43: 0 | E43: 0
A44: z.B. …. | B44: 0 | E44: 0
A45: z.B. …. | B45: 0 | E45: 0
A46: z.B. …. | B46: 0 | E46: 0
...

Sheet Partner_3
A1: Verwendungsnachweis Finanzplan LOEWE-Zentrum
A3: Partner:
A6: PROJEKTTITEL
A7: WISS. KOORDINATION
A8: FEDERFÜHRENDE Einrichtung:
A9: Förderzeitraum:
A11: SOLL / IST Vergleich verwendete Mittel | B11: SOLL Haushaltsjahr 20… | E11: IST Haushaltsjahr 20 …
A13: PERSONALKOSTEN (AG-Brutto ohne Arbeitsplatzkosten): | B13: Personen / Jahr | C13: Personenmonate /Jahr | D13: Kosten / Jahr in € | E13: Personen / Jahr | F13: Personenmonate /Jahr | G13: Kosten / Jahr in €
A14: Wissenschaftliches Personal:
A15: W3 | B15: 0 | C15: 0 | D15: 0 | E15: 0 | F15: 0 | G15: 0
A16: W2 | B16: 0 | C16: 0 | D16: 0 | E16: 0 | F16: 0 | G16: 0
A17: TV-H 15 | B17: 0 | C17: 0 | D17: 0 | E17: 0 | F17: 0 | G17: 0
A18: TV-H 14 | B18: 0 | C18: 0 | D18: 0 | E18: 0 | F18: 0 | G18: 0
A19: TV-H 13 | B19: 0 | C19: 0 | D19: 0 | E19: 0 | F19: 0 | G19: 0
A20: TV-H 12 | B20: 0 | C20: 0 | D20: 0 | E20: 0 | F20: 0 | G20: 0
A21: … | B21: 0 | C21: 0 | D21: 0 | E21: 0 | F21: 0 | G21: 0
B22: 0 | C22: 0 | D22: 0 | E22: 0 | F22: 0 | G22: 0
A23: Wissenschaftl./Student. Hilfskräfte | B23: 0 | C23: 0 | D23: 0 | E23: 0 | F23: 0 | G23: 0
A24: Zw.-summe Wissenschaftl. Personal: | B24: =SUM(B15:B23) -> 0 | C24: =SUM(C15:C23) -> 0 | D24: =SUM(D15:D23) -> 0 | E24: =SUM(E15:E23) -> 0 | F24: =SUM(F15:F23) -> 0 | G24: =SUM(G15:G23) -> 0
A25: Nichtwissenschaftliches Personal (inkl. Administration):
A26: TV-H 15 | B26: 0 | C26: 0 | D26: 0 | E26: 0 | F26: 0 | G26: 0
A27: TV-H 14 | B27: 0 | C27: 0 | D27: 0 | E27: 0 | F27: 0 | G27: 0
A28: TV-H 13 | B28: 0 | C28: 0 | D28: 0 | E28: 0 | F28: 0 | G28: 0
A29: TV-H 12 | B29: 0 | C29: 0 | D29: 0 | E29: 0 | F29: 0 | G29: 0
A30: TV-H 11 | B30: 0 | C30: 0 | D30: 0 | E30: 0 | F30: 0 | G30: 0
A31: TV-H 10 | B31: 0 | C31: 0 | D31: 0 | E31: 0 | F31: 0 | G31: 0
A32: TV-H 9 | B32: 0 | C32: 0 | D32: 0 | E32: 0 | F32: 0 | G32: 0
A33: TV-H 8 | B33: 0 | C33: 0 | D33: 0 | E33: 0 | F33: 0 | G33: 0
A34: TV-H 7 | B34: 0 | C34: 0 | D34: 0 | E34: 0 | F34: 0 | G34: 0
B35: 0 | C35: 0 | D35: 0 | E35: 0 | F35: 0 | G35: 0
A36: … | B36: 0 | C36: 0 | D36: 0 | E36: 0 | F36: 0 | G36: 0
A37: Zw.-summe Nicht-Wissenschaftl. Personal: | B37: =SUM(B26:B36) -> 0 | C37: =SUM(C26:C36) -> 0 | D37: =SUM(D26:D36) -> 0 | E37: =SUM(E26:E36) -> 0 | F37: =SUM(F26:F36) -> 0 | G37: =SUM(G26:G36) -> 0
A38: SUMME STELLEN/PERSONALKOSTEN: | B38: =SUM(B24,B37) -> 0 | C38: =SUM(C24,C37) -> 0 | D38: =SUM(D24,D37) -> 0 | E38: =SUM(E24,E37) -> 0 | F38: =SUM(F24,F37) -> 0 | G38: =SUM(G24,G37) -> 0
A40: SACHKOSTEN inkl. Investitionen < Euro 5.000: | B40: Kosten in € | E40: Kosten in €
A41: Publikationen | B41: 0 | E41: 0
A42: Reisekosten | B42: 0 | E42: 0
A43: Verbrauchsmittel / Labormaterial | B43: 0 | E43: 0
A44: z.B. …. | B44: 0 | E44: 0
A45: z.B. …. | B45: 0 | E45: 0
A46: z.B. …. | B46: 0 | E46: 0
...

Sheet Partner_4
A1: Verwendungsnachweis Finanzplan LOEWE-Zentrum
A3: Partner:
A6: PROJEKTTITEL
A7: WISS. KOORDINATION
A8: FEDERFÜHRENDE Einrichtung:
A9: Förderzeitraum:
A11: SOLL / IST Vergleich verwendete Mittel | B11: SOLL Haushaltsjahr 20… | E11: IST Haushaltsjahr 20 …
A13: PERSONALKOSTEN (AG-Brutto ohne Arbeitsplatzkosten): | B13: Personen / Jahr | C13: Personenmonate /Jahr | D13: Kosten / Jahr in € | E13: Personen / Jahr | F13: Personenmonate /Jahr | G13: Kosten / Jahr in €
A14: Wissenschaftliches Personal:
A15: W3 | B15: 0 | C15: 0 | D15: 0 | E15: 0 | F15: 0 | G15: 0
A16: W2 | B16: 0 | C16: 0 | D16: 0 | E16: 0 | F16: 0 | G16: 0
A17: TV-H 15 | B17: 0 | C17: 0 | D17: 0 | E17: 0 | F17: 0 | G17: 0
A18: TV-H 14 | B18: 0 | C18: 0 | D18: 0 | E18: 0 | F18: 0 | G18: 0
A19: TV-H 13 | B19: 0 | C19: 0 | D19: 0 | E19: 0 | F19: 0 | G19: 0
A20: TV-H 12 | B20: 0 | C20: 0 | D20: 0 | E20: 0 | F20: 0 | G20: 0
A21: … | B21: 0 | C21: 0 | D21: 0 | E21: 0 | F21: 0 | G21: 0
B22: 0 | C22: 0 | D22: 0 | E22: 0 | F22: 0 | G22: 0
A23: Wissenschaftl./Student. Hilfskräfte | B23: 0 | C23: 0 | D23: 0 | E23: 0 | F23: 0 | G23: 0
A24: Zw.-summe Wissenschaftl. Personal: | B24: =SUM(B15:B23) -> 0 | C24: =SUM(C15:C23) -> 0 | D24: =SUM(D15:D23) -> 0 | E24: =SUM(E15:E23) -> 0 | F24: =SUM(F15:F23) -> 0 | G24: =SUM(G15:G23) -> 0
A25: Nichtwissenschaftliches Personal (inkl. Administration):
A26: TV-H 15 | B26: 0 | C26: 0 | D26: 0 | E26: 0 | F26: 0 | G26: 0
A27: TV-H 14 | B27: 0 | C27: 0 | D27: 0 | E27: 0 | F27: 0 | G27: 0
A28: TV-H 13 | B28: 0 | C28: 0 | D28: 0 | E28: 0 | F28: 0 | G28: 0
A29: TV-H 12 | B29: 0 | C29: 0 | D29: 0 | E29: 0 | F29: 0 | G29: 0
A30: TV-H 11 | B30: 0 | C30: 0 | D30: 0 | E30: 0 | F30: 0 | G30: 0
A31: TV-H 10 | B31: 0 | C31: 0 | D31: 0 | E31: 0 | F31: 0 | G31: 0
A32: TV-H 9 | B32: 0 | C32: 0 | D32: 0 | E32: 0 | F32: 0 | G32: 0
A33: TV-H 8 | B33: 0 | C33: 0 | D33: 0 | E33: 0 | F33: 0 | G33: 0
A34: TV-H 7 | B34: 0 | C34: 0 | D34: 0 | E34: 0 | F34: 0 | G34: 0
B35: 0 | C35: 0 | D35: 0 | E35: 0 | F35: 0 | G35: 0
A36: … | B36: 0 | C36: 0 | D36: 0 | E36: 0 | F36: 0 | G36: 0
A37: Zw.-summe Nicht-Wissenschaftl. Personal: | B37: =SUM(B26:B36) -> 0 | C37: =SUM(C26:C36) -> 0 | D37: =SUM(D26:D36) -> 0 | E37: =SUM(E26:E36) -> 0 | F37: =SUM(F26:F36) -> 0 | G37: =SUM(G26:G36) -> 0
A38: SUMME STELLEN/PERSONALKOSTEN: | B38: =SUM(B24,B37) -> 0 | C38: =SUM(C24,C37) -> 0 | D38: =SUM(D24,D37) -> 0 | E38: =SUM(E24,E37) -> 0 | F38: =SUM(F24,F37) -> 0 | G38: =SUM(G24,G37) -> 0
A40: SACHKOSTEN inkl. Investitionen < Euro 5.000: | B40: Kosten in € | E40: Kosten in €
A41: Publikationen | B41: 0 | E41: 0
A42: Reisekosten | B42: 0 | E42: 0
A43: Verbrauchsmittel / Labormaterial | B43: 0 | E43: 0
A44: z.B. …. | B44: 0 | E44: 0
A45: z.B. …. | B45: 0 | E45: 0
A46: z.B. …. | B46: 0 | E46: 0
...

Sheet Tabelle1
